BEGIN:VCALENDAR
VERSION:2.0
PRODID:-//Elder Services of Berkshire County Inc. - ECPv6.15.20//NONSGML v1.0//EN
CALSCALE:GREGORIAN
METHOD:PUBLISH
X-WR-CALNAME:Elder Services of Berkshire County Inc.
X-ORIGINAL-URL:https://www.esbci.org
X-WR-CALDESC:Events for Elder Services of Berkshire County Inc.
REFRESH-INTERVAL;VALUE=DURATION:PT1H
X-Robots-Tag:noindex
X-PUBLISHED-TTL:PT1H
BEGIN:VTIMEZONE
TZID:America/New_York
BEGIN:DAYLIGHT
TZOFFSETFROM:-0500
TZOFFSETTO:-0400
TZNAME:EDT
DTSTART:20230312T070000
END:DAYLIGHT
BEGIN:STANDARD
TZOFFSETFROM:-0400
TZOFFSETTO:-0500
TZNAME:EST
DTSTART:20231105T060000
END:STANDARD
BEGIN:DAYLIGHT
TZOFFSETFROM:-0500
TZOFFSETTO:-0400
TZNAME:EDT
DTSTART:20240310T070000
END:DAYLIGHT
BEGIN:STANDARD
TZOFFSETFROM:-0400
TZOFFSETTO:-0500
TZNAME:EST
DTSTART:20241103T060000
END:STANDARD
BEGIN:DAYLIGHT
TZOFFSETFROM:-0500
TZOFFSETTO:-0400
TZNAME:EDT
DTSTART:20250309T070000
END:DAYLIGHT
BEGIN:STANDARD
TZOFFSETFROM:-0400
TZOFFSETTO:-0500
TZNAME:EST
DTSTART:20251102T060000
END:STANDARD
END:VTIMEZONE
BEGIN:VEVENT
DTSTART;TZID=America/New_York:20240411T130000
DTEND;TZID=America/New_York:20240411T143000
DTSTAMP:20260421T170129
CREATED:20240129T183956Z
LAST-MODIFIED:20240129T183956Z
UID:1212-1712840400-1712845800@www.esbci.org
SUMMARY:Powerful Tools for Caregivers
DESCRIPTION:Powerful Tools for Caregivers is a free\, online class series that supports caregivers in taking care of themselves while caring for others. By taking care of your own health and well-being\, you become a better caregiver. Six classes held once a week are led by experienced class leaders. Class participants are given The Caregiver Helpbook to accompany the class and provide additional caregiver resources. Whether you provide care for a spouse\, partner\, parent\, or friend\, at home or in a care facility\, whether down the block or miles away\, yours is an important role. This course is for caregivers like you!
URL:https://www.esbci.org/event/powerful-tools-for-caregivers-6/
END:VEVENT
BEGIN:VEVENT
DTSTART;TZID=America/New_York:20240404T130000
DTEND;TZID=America/New_York:20240404T143000
DTSTAMP:20260421T170129
CREATED:20240129T183852Z
LAST-MODIFIED:20240129T183852Z
UID:1210-1712235600-1712241000@www.esbci.org
SUMMARY:Powerful Tools for Caregivers
DESCRIPTION:Powerful Tools for Caregivers is a free\, online class series that supports caregivers in taking care of themselves while caring for others. By taking care of your own health and well-being\, you become a better caregiver. Six classes held once a week are led by experienced class leaders. Class participants are given The Caregiver Helpbook to accompany the class and provide additional caregiver resources. Whether you provide care for a spouse\, partner\, parent\, or friend\, at home or in a care facility\, whether down the block or miles away\, yours is an important role. This course is for caregivers like you!
URL:https://www.esbci.org/event/powerful-tools-for-caregivers-5/
END:VEVENT
BEGIN:VEVENT
DTSTART;TZID=America/New_York:20240328T130000
DTEND;TZID=America/New_York:20240328T143000
DTSTAMP:20260421T170129
CREATED:20240129T183734Z
LAST-MODIFIED:20240129T183734Z
UID:1207-1711630800-1711636200@www.esbci.org
SUMMARY:Powerful Tools for Caregivers
DESCRIPTION:Powerful Tools for Caregivers is a free\, online class series that supports caregivers in taking care of themselves while caring for others. By taking care of your own health and well-being\, you become a better caregiver. Six classes held once a week are led by experienced class leaders. Class participants are given The Caregiver Helpbook to accompany the class and provide additional caregiver resources. Whether you provide care for a spouse\, partner\, parent\, or friend\, at home or in a care facility\, whether down the block or miles away\, yours is an important role. This course is for caregivers like you!
URL:https://www.esbci.org/event/powerful-tools-for-caregivers-4/
END:VEVENT
BEGIN:VEVENT
DTSTART;TZID=America/New_York:20240321T130000
DTEND;TZID=America/New_York:20240321T143000
DTSTAMP:20260421T170129
CREATED:20240129T183528Z
LAST-MODIFIED:20240129T183528Z
UID:1205-1711026000-1711031400@www.esbci.org
SUMMARY:Powerful Tools for Caregivers
DESCRIPTION:Powerful Tools for Caregivers is a free\, online class series that supports caregivers in taking care of themselves while caring for others. By taking care of your own health and well-being\, you become a better caregiver. Six classes held once a week are led by experienced class leaders. Class participants are given The Caregiver Helpbook to accompany the class and provide additional caregiver resources. Whether you provide care for a spouse\, partner\, parent\, or friend\, at home or in a care facility\, whether down the block or miles away\, yours is an important role. This course is for caregivers like you!
URL:https://www.esbci.org/event/powerful-tools-for-caregivers-3/
END:VEVENT
BEGIN:VEVENT
DTSTART;TZID=America/New_York:20240320T180000
DTEND;TZID=America/New_York:20240320T190000
DTSTAMP:20260421T170129
CREATED:20240306T145301Z
LAST-MODIFIED:20240306T145301Z
UID:1251-1710957600-1710961200@www.esbci.org
SUMMARY:Virtual Medicare Seminar March 20th at 6:00 PM
DESCRIPTION:This presentation will provide the necessary information to prepare for Medicare and select the appropriate coverage for your individual situation.\nPresentation will include:\n. The “basics of Medicare\,” deadlines\, who’s covered\, etc.\n. Original Medicare\n. Medicare Supplements (Medigap)\n. Prescription Drug Coverage\n. Medicare Advantage\n. Review Medicare.gov website & drug plans\n. Overview of insurance related public benefits\nClick this link to sign-up and you will receive an email with all the necessary information to attend.
URL:https://www.esbci.org/event/virtual-medicare-seminar-march-20th-at-600-pm/
END:VEVENT
BEGIN:VEVENT
DTSTART;TZID=America/New_York:20240314T130000
DTEND;TZID=America/New_York:20240314T143000
DTSTAMP:20260421T170129
CREATED:20240129T182844Z
LAST-MODIFIED:20240129T183432Z
UID:1201-1710421200-1710426600@www.esbci.org
SUMMARY:Powerful Tools for Caregivers
DESCRIPTION:Powerful Tools for Caregivers is a free\, online class series that supports caregivers in taking care of themselves while caring for others. By taking care of your own health and well-being\, you become a better caregiver. Six classes held once a week are led by experienced class leaders. Class participants are given The Caregiver Helpbook to accompany the class and provide additional caregiver resources. Whether you provide care for a spouse\, partner\, parent\, or friend\, at home or in a care facility\, whether down the block or miles away\, yours is an important role. This course is for caregivers like you!
URL:https://www.esbci.org/event/powerful-tools-for-caregivers-2/
END:VEVENT
BEGIN:VEVENT
DTSTART;TZID=America/New_York:20240307T130000
DTEND;TZID=America/New_York:20240307T143000
DTSTAMP:20260421T170129
CREATED:20240129T181119Z
LAST-MODIFIED:20240129T183645Z
UID:1197-1709816400-1709821800@www.esbci.org
SUMMARY:Powerful Tools for Caregivers
DESCRIPTION:Powerful Tools for Caregivers is a free\, online class series that supports caregivers in taking care of themselves while caring for others. By taking care of your own health and well-being\, you become a better caregiver. Six classes held once a week are led by experienced class leaders. Class participants are given The Caregiver Helpbook to accompany the class and provide additional caregiver resources. Whether you provide care for a spouse\, partner\, parent\, or friend\, at home or in a care facility\, whether down the block or miles away\, yours is an important role. This course is for caregivers like you!
URL:https://www.esbci.org/event/powerful-tools-for-caregivers/
END:VEVENT
END:VCALENDAR