BEGIN:VCALENDAR
VERSION:2.0
PRODID:-//Elder Services of Berkshire County Inc. - ECPv6.15.20//NONSGML v1.0//EN
CALSCALE:GREGORIAN
METHOD:PUBLISH
X-ORIGINAL-URL:https://www.esbci.org
X-WR-CALDESC:Events for Elder Services of Berkshire County Inc.
REFRESH-INTERVAL;VALUE=DURATION:PT1H
X-Robots-Tag:noindex
X-PUBLISHED-TTL:PT1H
BEGIN:VTIMEZONE
TZID:America/New_York
BEGIN:DAYLIGHT
TZOFFSETFROM:-0500
TZOFFSETTO:-0400
TZNAME:EDT
DTSTART:20230312T070000
END:DAYLIGHT
BEGIN:STANDARD
TZOFFSETFROM:-0400
TZOFFSETTO:-0500
TZNAME:EST
DTSTART:20231105T060000
END:STANDARD
BEGIN:DAYLIGHT
TZOFFSETFROM:-0500
TZOFFSETTO:-0400
TZNAME:EDT
DTSTART:20240310T070000
END:DAYLIGHT
BEGIN:STANDARD
TZOFFSETFROM:-0400
TZOFFSETTO:-0500
TZNAME:EST
DTSTART:20241103T060000
END:STANDARD
BEGIN:DAYLIGHT
TZOFFSETFROM:-0500
TZOFFSETTO:-0400
TZNAME:EDT
DTSTART:20250309T070000
END:DAYLIGHT
BEGIN:STANDARD
TZOFFSETFROM:-0400
TZOFFSETTO:-0500
TZNAME:EST
DTSTART:20251102T060000
END:STANDARD
BEGIN:DAYLIGHT
TZOFFSETFROM:-0500
TZOFFSETTO:-0400
TZNAME:EDT
DTSTART:20260308T070000
END:DAYLIGHT
BEGIN:STANDARD
TZOFFSETFROM:-0400
TZOFFSETTO:-0500
TZNAME:EST
DTSTART:20261101T060000
END:STANDARD
BEGIN:DAYLIGHT
TZOFFSETFROM:-0500
TZOFFSETTO:-0400
TZNAME:EDT
DTSTART:20270314T070000
END:DAYLIGHT
BEGIN:STANDARD
TZOFFSETFROM:-0400
TZOFFSETTO:-0500
TZNAME:EST
DTSTART:20271107T060000
END:STANDARD
END:VTIMEZONE
BEGIN:VEVENT
DTSTART;VALUE=DATE:20241001
DTEND;VALUE=DATE:20241101
DTSTAMP:20260421T104406
CREATED:20240923T142819Z
LAST-MODIFIED:20240923T142819Z
UID:1720-1727740800-1730419199@www.esbci.org
SUMMARY:Bloomin 4 Good Program
DESCRIPTION:For the entire month of October\, Elder Services’ Meals on Wheels Program has been selected by store leadership to benefit from Stop & Shop’s Bloomin’ 4 Good Program\, created to fight hunger across the communities served by Stop & Shop. The purchase of a $10.99 bouquet in the sleeve marked “Bloomin’ 4 Good” from the Stop & Shop at 1 Dan Fox Drive in Pittsfield will brighten a home or make someone’s day while also directing a $1 donation to Elder Services.
URL:https://www.esbci.org/event/bloomin-4-good-program/
LOCATION:Stop & Shop\, 1 Dan Fox drive\, Pittsfield\, MA\, 01201\, United States
END:VEVENT
BEGIN:VEVENT
DTSTART;TZID=America/New_York:20260422T140000
DTEND;TZID=America/New_York:20260422T153000
DTSTAMP:20260421T104406
CREATED:20250102T195058Z
LAST-MODIFIED:20260408T134346Z
UID:1899-1776866400-1776871800@www.esbci.org
SUMMARY:Medicare Virtual Seminar
DESCRIPTION:This is a Virtual Medicare Seminar \nThis presentation will provide the necessary information to prepare for Medicare and select the appropriate coverage for your individual situation.\nPresentation will include:\n. The “basics of Medicare\,” deadlines\, who’s covered\, etc.\n. Original Medicare\n. Medicare Supplements (Medigap)\n. Prescription Drug Coverage\n. Medicare Advantage\n. Review Medicare.gov website & drug plans\n. Overview of insurance related public benefits \nClick on this link to sign up.
URL:https://www.esbci.org/event/medicare-101-seminar/
END:VEVENT
END:VCALENDAR